Workbook
Name MPBase: #REF!
Name MPBase: #REF!
Name MPBase: #REF!
Name MPBase: #REF!
Name MPFactor: #REF!
Name MPFactor: #REF!
Name MPFactor: #REF!
Name MPFactor: #REF!
Name MPPerLevel: #REF!
Name MPPerLevel: #REF!
Name MPPerLevel: #REF!
Name MPPerLevel: #REF!
Name PowerFactor: #REF!
Name PowerFactor: #REF!
Name PowerFactor: #REF!
Name PowerFactor: #REF!

Sheet Global
A1: ID | B1: Type | C1: Base Value | D1: Easy | E1: Normal | F1: Hard | G1: Description
B2: After this number is bougth prices will rise the configured factor.After this number is bougth prices will rise the configured factor.After this number is bougth prices will rise the configured factor.After this number is bougth prices will rise the configured factor.After this number is bougth prices will rise the configured factor.After this number is bougth prices will rise the configured factor.After this number is bougth prices will rise the configured factor.After this number is bougth prices will rise the configured factor.After this number is bougth prices will rise the configured factor.After this number is bougth prices will rise the configured factor.After this number is bougth prices will rise the configured factor. | C2: After this number is bougth prices will rise the configured factor.After this number is bougth prices will rise the configured factor.After this number is bougth prices will rise the configured factor.After this number is bougth prices will rise the configured factor.After this number is bougth prices will rise the configured factor.After this number is bougth prices will rise the configured factor.After this number is bougth prices will rise the configured factor.After this number is bougth prices will rise the configured factor.After this number is bougth prices will rise the configured factor.After this number is bougth prices will rise the configured factor.After this number is bougth prices will rise the configured factor. | G2: After this number is bougth prices will rise the configured factor.After this number is bougth prices will rise the configured factor.After this number is bougth prices will rise the configured factor.After this number is bougth prices will rise the configured factor.After this number is bougth prices will rise the configured factor.After this number is bougth prices will rise the configured factor.After this number is bougth prices will rise the configured factor.After this number is bougth prices will rise the configured factor.After this number is bougth prices will rise the configured factor.After this number is bougth prices will rise the configured factor.After this number is bougth prices will rise the configured factor.
G3: TIMMING
A4: DefaultTimeForGeneratingResources | B4: int | C4: 10 | G4: Time interval in seconds for generatin resources in buildings.
A5: DefaultTimeForResearchingTechs | B5: int | C5: 20 | G5: Default base time for researching technologies. It will be multiplied by the Command.BuildingTimeFactor value.
A6: DefaultTimeTrainingUnit | B6: int | C6: 20 | G6: Default base time for training units. It will be multiplied by the Command.BuildingTimeFactor value.
A7: DefaultTimeForBuilding | B7: int | C7: 20 | G7: Default base time. It will be multiplied by the Entity.BuildingTimeFactor value.
G9: RESOURCES
A10: DefaultGoldOnGameStart | B10: int | C10: 100 | G10: Default initital reserves of gold when the level starts.
A11: DefaultWoodOnGameStart | B11: int | C11: 20 | G11: Default initital reserves of wood when the level starts.
A12: DefaultStoneOnGameStart | B12: int | C12: 0 | G12: Default initital reserves of stone when the level starts.
A13: DefaultIronOnGameStart | B13: int | C13: 0 | G13: Default initital reserves of iron when the level starts.
A14: DefaultOilOnGameStart | B14: int | C14: 0 | G14: Default initital reserves of oil when the level starts.
A15: ResourcesBackFactorOnDestroy | B15: float | C15: 0.5 | G15: Factor of the original resources costs of the builiding that will be returned back to the player whenthey are manually destroyed.
A16: GoldGenereatedByCell | B16: int | C16: 20 | G16: Gold generated by every cell under a quarry control.
G19: UNITS
A20: TimeForLifeRegeneration | B20: int | C20: 1 | G20: Interval in seconds in which the units regenerate life.
A21: MinTimeIdleForLifeRegeneration | B21: int | C21: 5 | G21: Interval in seconds the unit must be without receiving damage to start the regeneration.
G23: TECHNOLOGIES
G25: INTERACTIVE OBJECTS
A26: DefaultFireDurationForOilStains | B26: int | C26: 15 | G26: Seconds of fire duration for oil stains.
G28: BUILDINGS
A29: BuildingInitialLifeFactor | B29: float | C29: 0.2 | G29: The initial life factor that the buildings have in the moment of being built.
A30: MinRadiusFreeForEnemiesToEnableBuilding | B30: int | C30: 7 | G30: Min radius in cells to be able to build a building.
A31: DesinfectionGoldFactor | B31: float | C31: 0.3 | G31: Cost of building desinfection
G34: COMMERCE
A35: PriceResourceBase | B35: float | C35: 10 | G35: Gold value base per resource.
A36: PriceSellFactorPerMarket | B36: float | C36: 0.03 | G36: Price for selling is: Gold Value * PriceSellFactorPerMarket * Number of Markets built
A37: WoodGoldFactor | B37: float | C37: 1 | G37: Gold value for wood: X * PriceResourceBase
A38: StoneGoldFactor | B38: float | C38: 2 | G38: Gold value for stone X * PriceResourceBase
A39: IronGoldFactor | B39: float | C39: 4 | G39: Gold value for iron X * PriceResourceBase
A40: OilGoldFactor | B40: float | C40: 8 | G40: Gold value for oil: X * PriceResourceBase
G42: TRAPS
A43: DefaultNFramesToActivateTraps | B43: int | C43: 30 | G43: Traps will be activated every N frames (60 frames = 1s)
A44: TrapStakesDamage | B44: int | C44: 20 | G44: Trap Stakes will cause this damage.
A45: TrapStakesOwnDamage | B45: int | C45: 1 | G45: Trap Stakes will receive this damage on activation.
A46: TrapBladesDamage | B46: int | C46: 5 | G46: Trap Blades will cause this damage.
A47: TrapBladesOwnDamage | B47: int | C47: 1 | G47: Trap Blades will receive this damage on activation.
A48: TrapMineDamage | B48: int | C48: 100 | G48: Trap Mine default damage.
A49: TrapMineRadius | B49: float | C49: 1.9 | G49: Trap Mines action radius in cells.
...

Sheet Entities
A1: ID | B1: Order | C1: Key | D1: _NOTES_ | E1: Nature | F1: Category | G1: Command Requisite | H1: Upgrade To | J1: Life | K1: Deffenses Life | L1: Life Regen Factor | M1: Watch Range | N1: Entity Watch Interval | O1: Walk Speed | P1: Run Speed | Q1: Mass | R1: Height | T1: Building Time Factor | U1: Building From | V1: Building Target | W1: Building Margin | X1: Same Building Margin | Y1: Ignore Buildings Margin | Z1: Max Buildings Adjacent | AA1: Can Be Destroyed | AB1: Can Be Repaired | AC1: Max Units Inside | AD1: Max Instances | AE1: Energy Transfer Radius | AF1: Resources Storage | AG1: Fire Damage | AH1: Inflamable Time | AI1: Burning Time | AJ1: Infectable | AK1: Convertible In Zombie | AL1: Workers Needed | AM1: Food Needed | AN1: Energy Needed | AO1: Gold Cost | AP1: Wood Cost | AQ1: Stone Cost | AR1: Iron Cost | AS1: Oil Cost | AT1: Colonists | AU1: Workers Supply | AV1: Food Supply | AW1: Energy Supply | AX1: Wood Gen | AY1: Stone Gen | AZ1: Iron Gen | BA1: Oil Gen | BB1: Gold Gen | BC1: GoldGen Per Colonist | BD1: Convert Resources Into Gold | BE1: Resources Generation Time Factor | BF1: Resource Collection Type | BG1: Resource Collection Radius | BH1: Resource Collection Cell Value | BI1: Average units per turn estimated | BJ1: Can Enter in Buildings | BK1: Can Travel | BL1: Can Stop | BM1: Can Hold | BN1: Can Patrol | BO1: Can Chase | BP1: Time Ani Normal | BQ1: Time Ani Special | BR1: Time Ani Walk | BS1: Time Ani Run | BT1: Time Ani Die | BU1: Reverse Ani Normal | BV1: Attack Command | BW1: Bell Walking Factor | BX1: Bell Running Factor | BZ1: Behaviour | CA1: Disable Diagonal Building
F2: None, Dwellings, Resources, Energy, Millitary, Industry | G2: The Command only will be available once the selecte command has been executed. | H2: If has value, the entity could be upgraded to the one selected. The cost of resources is the difference between the current and the new one. | K2: If the building has lost more life than this value, the zombies can enter and infect the it. | L2: Factor of life restored per interval: TimeForLifeRegeneration | M2: Cell visibility radius. | N2: Nº frames to update near entities. 60 frames = 1s. | P2: Cells per Second | Q2: Mass of the Entity | R2: Height of the entity in cells. | T2: It will be multiplied by the Global DefaultBuilidingTime. | U2: Entity that has the commmand to build this entity. | V2: Where can be placed: None, EmptyArea, NearWood | W2: Buildings has to keep this margin with other buildings except if Ignore margin es set. | X2: Two entities of the same type cannot be built nearer than the margin given. | Y2: If TRUE, then this building will ignore margins with other buildings. | Z2: If >1, theses entities cannot have more buildings adjacent than the given number. | AA2: If TRUE then the entity has the command Destroy | AB2: If True the entity will have the command Repair. | AC2: If > 0, the unit can hold units inside the building. | AD2: If has value, it is the áximum number of instances for this entity. | AE2: It distributes energy in the given raduis. | AF2: Increments the maximum resources storage by the giving amount. | AG2: When it is in contact with fire, the entity will suffer this damage 3 times / second. | AH2: If the entity is in contact with fire for the given time in milliseconts, it will burn. | AI2: Entites inflamable will be affected by fire. It is the numer of seconds it keeps burning, 0 = Not Inflamable. | AJ2: If infectable, the entity will be infected when a zombie breaks into the entity. | AK2: The entity will be converte in zombie when died because of a zombie attack. | AL2: Number of workers the entity needs to be active. | AM2: Amount of food the entity needs to be active. | AN2: Amount of energy the entity needs to be active. | AT2: Number of Colonist that lives in the entity. | AX2: Fixed units generated per period | AY2: Fixed units generated per period | AZ2: Fixed units generated per period | BA2: Fixed units generated per period | BB2: Fixed units generated per period | BC2: Gold generated per minute multiplied per nº of colonists. | BD2: If TRUE the exceding resourcess will be sold to get money automatically. | BE2: Factor of time to generate resources. This multiplies the Default Time for Resources Generation value. | BF2: Type of the collection of resources: Hunting, Farming, WoodCutting, Fishing, Mining, OilExtraction. | BG2: Raidus of the collection surrounding the entity. | BH2: The value produced per cell recollected. | BI2: Estimated units per turn for an average positioned entity. Only info, not used in game. | BJ2: If TRUE then the unit can enter in friendly buildings with Max Units Inside > 0 | BW2: If > 0 then the walking steps will be done with a bell shape acceleration curve. | BX2: If > 0 then the running steps will be done with a bell shape acceleration curve. | CA2: If true, the building cannot be built in diagonal with another builiding of the same type. Ex. Walls.
D3: BUILDINGS
D6: LEVEL 1: Basic buildings made with only gold.
A7: CommandCenter | B7: =IF(ISBLANK(A7),"",ROW()) -> 7 | D7: Base center, if it is destroyed the game ends. It can build other buildings and collect gold from the colonists. | E7: Empire | J7: 4000 | K7: 200 | M7: 10 | R7: 3 | T7: 1 | W7: 1 | AB7: Y | AD7: 1 | AE7: =M7 -> 10 | AF7: 100 | AG7: 1 | AJ7: Y | AL7: =IF(_Design!H5>=0,"",-_Design!H5) | AM7: =IF(_Design!I5>=0,"",-_Design!I5) | AN7: =IF(_Design!J5>=0,"",-_Design!J5) | AO7: =IF(_Design!K5=0,"",_Design!K5) -> 2000 | AP7: =IF(_Design!L5=0,"",_Design!L5) -> 50 | AQ7: =IF(_Design!M5=0,"",_Design!M5) -> 50 | AR7: =IF(_Design!N5=0,"",_Design!N5) | AS7: =IF(_Design!O5=0,"",_Design!O5) | AU7: =IF(_Design!H5<=0,"",_Design!H5) -> 5 | AV7: =IF(_Design!I5<=0,"",_Design!I5) -> 20 | AW7: =IF(_Design!J5<=0,"",_Design!J5) -> 20 | BB7: 50 | BC7: 0.5 | BE7: 1
A9: TentHouse | B9: =IF(ISBLANK(A9),"",ROW()) -> 9 | D9: Basic dwelling for the colonists. Provides workers and gold tributtes. | E9: Empire | F9: Dwellings | H9: CottageHouse | J9: 50 | K9: =J9*0.1 -> 5 | M9: 6 | R9: 1 | T9: 1 | U9: CommandCenter | V9: EmptyArea | W9: 0 | Z9: 2 | AA9: Y | AB9: Y | AG9: 1 | AJ9: Y | AL9: =IF(_Design!H7>=0,"",-_Design!H7) | AM9: =IF(_Design!I7>=0,"",-_Design!I7) -> 4 | AN9: =IF(_Design!J7>=0,"",-_Design!J7) | AO9: =IF(_Design!K7=0,"",_Design!K7) -> 30 | AP9: =IF(_Design!L7=0,"",_Design!L7) | AQ9: =IF(_Design!M7=0,"",_Design!M7) | AR9: =IF(_Design!N7=0,"",_Design!N7) | AS9: =IF(_Design!O7=0,"",_Design!O7) | AT9: =IF(_Design!G7<=0,"",_Design!G7) -> 4 | AU9: =IF(_Design!H7<=0,"",_Design!H7) -> 2 | AW9: =IF(_Design!J7<=0,"",_Design!J7)
A10: FishermanCottage | B10: =IF(ISBLANK(A10),"",ROW()) -> 10 | D10: Must be placed near a source of water. It produces food depending on the amount of cell waters available. | E10: Empire | F10: Resources | J10: 100 | K10: =J10*0.1 -> 10 | M10: 6 | R10: 1 | T10: 1 | U10: CommandCenter | V10: NearSea | W10: 1 | AA10: Y | AB10: Y | AG10: 1 | AJ10: Y | AL10: =IF(_Design!H8>=0,"",-_Design!H8) | AM10: =IF(_Design!I8>=0,"",-_Design!I8) | AN10: =IF(_Design!J8>=0,"",-_Design!J8) -> 1 | AO10: =IF(_Design!K8=0,"",_Design!K8) -> 80 | AP10: =IF(_Design!L8=0,"",_Design!L8) | AQ10: =IF(_Design!M8=0,"",_Design!M8) | AR10: =IF(_Design!N8=0,"",_Design!N8) | AS10: =IF(_Design!O8=0,"",_Design!O8) | AT10: =IF(_Design!G8<=0,"",_Design!G8) -> 1 | AU10: =IF(_Design!H8<=0,"",_Design!H8) | AW10: =IF(_Design!J8<=0,"",_Design!J8) | BF10: Fishing | BG10: 3 | BH10: 0.5 | BI10: =((2*BG10+1)*(2*BG10+1)-1)*BH10/3 -> 8
A11: HunterCottage | B11: =IF(ISBLANK(A11),"",ROW()) -> 11 | D11: It generates food by hunting animals from the surroundings. Forests and grass plains give more food than other terrains. | E11: Empire | F11: Resources | J11: 100 | K11: =J11*0.1 -> 10 | M11: 6 | R11: 1 | T11: 1 | U11: CommandCenter | V11: EmptyArea | W11: 1 | AA11: Y | AB11: Y | AG11: 1 | AJ11: Y | AL11: =IF(_Design!H9>=0,"",-_Design!H9) | AM11: =IF(_Design!I9>=0,"",-_Design!I9) | AN11: =IF(_Design!J9>=0,"",-_Design!J9) -> 1 | AO11: =IF(_Design!K9=0,"",_Design!K9) -> 80 | AP11: =IF(_Design!L9=0,"",_Design!L9) | AQ11: =IF(_Design!M9=0,"",_Design!M9) | AR11: =IF(_Design!N9=0,"",_Design!N9) | AS11: =IF(_Design!O9=0,"",_Design!O9) | AT11: =IF(_Design!G9<=0,"",_Design!G9) -> 1 | AU11: =IF(_Design!H9<=0,"",_Design!H9) | AW11: =IF(_Design!J9<=0,"",_Design!J9) | BF11: Hunting | BG11: 3 | BH11: 0.5 | BI11: =((2*BG11+1)*(2*BG11+1)-1)*BH11/4 -> 6
A12: Sawmill | B12: =IF(ISBLANK(A12),"",ROW()) -> 12 | D12: It generates wood from surrounding trees. The more trees, the more wood. | E12: Empire | F12: Resources | J12: 50 | K12: =J12*0.1 -> 5 | M12: 6 | R12: 1 | T12: 1 | U12: CommandCenter | V12: NearWood | W12: 1 | AA12: Y | AB12: Y | AG12: 1 | AJ12: Y | AL12: =IF(_Design!H10>=0,"",-_Design!H10) -> 4 | AM12: =IF(_Design!I10>=0,"",-_Design!I10) | AN12: =IF(_Design!J10>=0,"",-_Design!J10) -> 4 | AO12: =IF(_Design!K10=0,"",_Design!K10) -> 300 | AP12: =IF(_Design!L10=0,"",_Design!L10) | AQ12: =IF(_Design!M10=0,"",_Design!M10) | AR12: =IF(_Design!N10=0,"",_Design!N10) | AS12: =IF(_Design!O10=0,"",_Design!O10) | AT12: =IF(_Design!G10<=0,"",_Design!G10) | AU12: =IF(_Design!H10<=0,"",_Design!H10) | AW12: =IF(_Design!J10<=0,"",_Design!J10) | BE12: 2 | BF12: WoodCutting | BG12: 3 | BH12: 0.5 | BI12: =((2*BG12+2)*(2*BG12+2)-4)*BH12/3 -> 10
D13: Basic buildings that need only wood
A14: EnergyWoodTower | B14: =IF(ISBLANK(A14),"",ROW()) -> 14 | D14: Extends the energy range radius so the colony can be expaneded. | E14: Empire | F14: Energy | H14: EnergyIronTower | J14: 20 | K14: =J14*0.1 -> 2 | M14: 6 | R14: 1 | T14: 1 | U14: CommandCenter | V14: EmptyArea | W14: 0 | Y14: Y | AA14: Y | AB14: Y | AE14: 8 | AG14: 1 | AJ14: Y | AL14: =IF(_Design!H12>=0,"",-_Design!H12) -> 1 | AM14: =IF(_Design!I12>=0,"",-_Design!I12) | AN14: =IF(_Design!J12>=0,"",-_Design!J12) | AO14: =IF(_Design!K12=0,"",_Design!K12) -> 200 | AP14: =IF(_Design!L12=0,"",_Design!L12) -> 10 | AQ14: =IF(_Design!M12=0,"",_Design!M12) | AR14: =IF(_Design!N12=0,"",_Design!N12) | AS14: =IF(_Design!O12=0,"",_Design!O12) | AT14: =IF(_Design!G12<=0,"",_Design!G12) | AU14: =IF(_Design!H12<=0,"",_Design!H12) | AV14: =IF(_Design!I12<=0,"",_Design!I12) | AW14: =IF(_Design!J12<=0,"",_Design!J12)
A15: MillWood | B15: =IF(ISBLANK(A15),"",ROW()) -> 15 | D15: Generates energy from wind. | E15: Empire | F15: Energy | H15: MillIron | J15: 100 | K15: =J15*0.1 -> 10 | M15: 6 | R15: 1 | T15: 1 | U15: CommandCenter | V15: EmptyArea | W15: 1 | AA15: Y | AB15: Y | AG15: 1 | AJ15: Y | AL15: =IF(_Design!H13>=0,"",-_Design!H13) -> 4 | AM15: =IF(_Design!I13>=0,"",-_Design!I13) | AN15: =IF(_Design!J13>=0,"",-_Design!J13) | AO15: =IF(_Design!K13=0,"",_Design!K13) -> 300 | AP15: =IF(_Design!L13=0,"",_Design!L13) -> 20 | AQ15: =IF(_Design!M13=0,"",_Design!M13) | AR15: =IF(_Design!N13=0,"",_Design!N13) | AS15: =IF(_Design!O13=0,"",_Design!O13) | AT15: =IF(_Design!G13<=0,"",_Design!G13) | AU15: =IF(_Design!H13<=0,"",_Design!H13) | AV15: =IF(_Design!I13<=0,"",_Design!I13) | AW15: =IF(_Design!J13<=0,"",_Design!J13) -> 30
A16: Quarry | B16: =IF(ISBLANK(A16),"",ROW()) -> 16 | D16: It generates stone from surrounding mountains | E16: Empire | F16: Resources | H16: AdvancedQuarry | J16: 50 | K16: =J16*0.1 -> 5 | M16: 6 | R16: 1 | T16: 1 | U16: CommandCenter | V16: NearMineral | W16: 1 | AA16: Y | AB16: Y | AG16: 1 | AJ16: Y | AL16: =IF(_Design!H14>=0,"",-_Design!H14) -> 4 | AM16: =IF(_Design!I14>=0,"",-_Design!I14) | AN16: =IF(_Design!J14>=0,"",-_Design!J14) -> 6 | AO16: =IF(_Design!K14=0,"",_Design!K14) -> 350 | AP16: =IF(_Design!L14=0,"",_Design!L14) -> 30 | AQ16: =IF(_Design!M14=0,"",_Design!M14) | AR16: =IF(_Design!N14=0,"",_Design!N14) | AS16: =IF(_Design!O14=0,"",_Design!O14) | AT16: =IF(_Design!G14<=0,"",_Design!G14) | AU16: =IF(_Design!H14<=0,"",_Design!H14) | AV16: =IF(_Design!I14<=0,"",_Design!I14) | AW16: =IF(_Design!J14<=0,"",_Design!J14) | BE16: 2 | BF16: Mining | BG16: 2 | BH16: 0.5 | BI16: =((2*BG16+2)*(2*BG16+2)-4)*BH16/3 -> 5.3333333
A17: WallWood | B17: =IF(ISBLANK(A17),"",ROW()) -> 17 | D17: Wall made of wood. | E17: Empire | F17: Deffense | H17: WallStone | J17: 100 | K17: =J17*0.1 -> 10 | R17: 1 | T17: 1 | U17: CommandCenter | V17: EmptyArea | W17: 0 | Y17: Y | AA17: Y | AB17: Y | AG17: 1 | AL17: =IF(_Design!H15>=0,"",-_Design!H15) | AM17: =IF(_Design!I15>=0,"",-_Design!I15) | AN17: =IF(_Design!J15>=0,"",-_Design!J15) | AO17: =IF(_Design!K15=0,"",_Design!K15) -> 10 | AP17: =IF(_Design!L15=0,"",_Design!L15) -> 2 | AQ17: =IF(_Design!M15=0,"",_Design!M15) | AR17: =IF(_Design!N15=0,"",_Design!N15) | AS17: =IF(_Design!O15=0,"",_Design!O15) | AT17: =IF(_Design!G15<=0,"",_Design!G15) | AU17: =IF(_Design!H15<=0,"",_Design!H15) | AV17: =IF(_Design!I15<=0,"",_Design!I15) | AW17: =IF(_Design!J15<=0,"",_Design!J15)
A18: GateWood | B18: =IF(ISBLANK(A18),"",ROW()) -> 18 | D18: Gate made of wood. | E18: Empire | F18: Deffense | H18: GateStone | J18: 100 | K18: =J18*0.1 -> 10 | R18: 1 | T18: 1 | U18: CommandCenter | V18: EmptyArea | W18: 0 | Y18: Y | AA18: Y | AB18: Y | AG18: 1 | AL18: =IF(_Design!H16>=0,"",-_Design!H16) | AM18: =IF(_Design!I16>=0,"",-_Design!I16) | AN18: =IF(_Design!J16>=0,"",-_Design!J16) | AO18: =IF(_Design!K16=0,"",_Design!K16) -> 100 | AP18: =IF(_Design!L16=0,"",_Design!L16) -> 16 | AQ18: =IF(_Design!M16=0,"",_Design!M16) | AR18: =IF(_Design!N16=0,"",_Design!N16) | AS18: =IF(_Design!O16=0,"",_Design!O16) | AT18: =IF(_Design!G16<=0,"",_Design!G16) | AU18: =IF(_Design!H16<=0,"",_Design!H16) | AV18: =IF(_Design!I16<=0,"",_Design!I16) | AW18: =IF(_Design!J16<=0,"",_Design!J16)
D19: LEVEL 2: Advanced Wood Buildings
A20: SoldiersCenter | B20: =IF(ISBLANK(A20),"",ROW()) -> 20 | D20: Training center for soldiers and rangers. | E20: Empire | F20: Military | J20: 200 | K20: =J20*0.1 -> 20 | M20: 7 | R20: 1 | T20: 1 | U20: CommandCenter | V20: EmptyArea | W20: 1 | AA20: Y | AB20: Y | AG20: 1 | AJ20: Y | AL20: =IF(_Design!H18>=0,"",-_Design!H18) -> 8 | AM20: =IF(_Design!I18>=0,"",-_Design!I18) | AN20: =IF(_Design!J18>=0,"",-_Design!J18) -> 8 | AO20: =IF(_Design!K18=0,"",_Design!K18) -> 500 | AP20: =IF(_Design!L18=0,"",_Design!L18) -> 20 | AQ20: =IF(_Design!M18=0,"",_Design!M18) -> 20 | AR20: =IF(_Design!N18=0,"",_Design!N18) | AS20: =IF(_Design!O18=0,"",_Design!O18) | AT20: =IF(_Design!G18<=0,"",_Design!G18) | AU20: =IF(_Design!H18<=0,"",_Design!H18) | AV20: =IF(_Design!I18<=0,"",_Design!I18) | AW20: =IF(_Design!J18<=0,"",_Design!J18)
A21: WoodWorkshop | B21: =IF(ISBLANK(A21),"",ROW()) -> 21 | D21: It allows wood based improvements. | E21: Empire | F21: Industry | J21: 600 | K21: =J21*0.1 -> 60 | M21: 7 | R21: 1 | T21: 1 | U21: CommandCenter | V21: EmptyArea | W21: 1 | AB21: Y | AD21: 1 | AG21: 1 | AJ21: Y | AL21: =IF(_Design!H19>=0,"",-_Design!H19) -> 8 | AM21: =IF(_Design!I19>=0,"",-_Design!I19) | AN21: =IF(_Design!J19>=0,"",-_Design!J19) -> 12 | AO21: =IF(_Design!K19=0,"",_Design!K19) -> 600 | AP21: =IF(_Design!L19=0,"",_Design!L19) -> 40 | AQ21: =IF(_Design!M19=0,"",_Design!M19) | AR21: =IF(_Design!N19=0,"",_Design!N19) | AS21: =IF(_Design!O19=0,"",_Design!O19) | AT21: =IF(_Design!G19<=0,"",_Design!G19) | AU21: =IF(_Design!H19<=0,"",_Design!H19) | AV21: =IF(_Design!I19<=0,"",_Design!I19) | AW21: =IF(_Design!J19<=0,"",_Design!J19)
A22: CottageHouse | B22: =IF(ISBLANK(A22),"",ROW()) -> 22 | D22: Medium dwelling for the colonists. Provides workers and gold tributtes. | E22: Empire | F22: Dwellings | G22: TechWoodHouse | H22: StoneHouse | J22: 200 | K22: =J22*0.1 -> 20 | M22: 6 | R22: 1 | T22: 1 | U22: CommandCenter | V22: EmptyArea | Z22: 2 | AA22: Y | AB22: Y | AG22: 1 | AJ22: Y | AL22: =IF(_Design!H20>=0,"",-_Design!H20) | AM22: =IF(_Design!I20>=0,"",-_Design!I20) -> 8 | AN22: =IF(_Design!J20>=0,"",-_Design!J20) -> 2 | AO22: =IF(_Design!K20=0,"",_Design!K20) -> 80 | AP22: =IF(_Design!L20=0,"",_Design!L20) -> 10 | AQ22: =IF(_Design!M20=0,"",_Design!M20) | AR22: =IF(_Design!N20=0,"",_Design!N20) | AS22: =IF(_Design!O20=0,"",_Design!O20) | AT22: =IF(_Design!G20<=0,"",_Design!G20) -> 8 | AU22: =IF(_Design!H20<=0,"",_Design!H20) -> 4 | AV22: =IF(_Design!I20<=0,"",_Design!I20) | AW22: =IF(_Design!J20<=0,"",_Design!J20)
A23: Farm | B23: =IF(ISBLANK(A23),"",ROW()) -> 23 | D23: It produces food harvesting the surrounding grass cells. | E23: Empire | F23: Resources | G23: TechFarms | H23: AdvancedFarm | J23: 100 | K23: =J23*0.1 -> 10 | M23: 6 | R23: 1 | T23: 1 | U23: CommandCenter | V23: EmptyArea | W23: 1 | AA23: Y | AB23: Y | AG23: 1 | AJ23: Y | AL23: =IF(_Design!H21>=0,"",-_Design!H21) | AM23: =IF(_Design!I21>=0,"",-_Design!I21) | AN23: =IF(_Design!J21>=0,"",-_Design!J21) -> 4 | AO23: =IF(_Design!K21=0,"",_Design!K21) -> 300 | AP23: =IF(_Design!L21=0,"",_Design!L21) -> 30 | AQ23: =IF(_Design!M21=0,"",_Design!M21) | AR23: =IF(_Design!N21=0,"",_Design!N21) | AS23: =IF(_Design!O21=0,"",_Design!O21) | AT23: =IF(_Design!G21<=0,"",_Design!G21) -> 4 | AU23: =IF(_Design!H21<=0,"",_Design!H21) | AW23: =IF(_Design!J21<=0,"",_Design!J21) | BF23: Farming | BG23: 2 | BH23: 2 | BI23: =((2*BG23+2)*(2*BG23+2)-4)*BH23*0.8 -> 51.2
A24: WatchTowerWood | B24: =IF(ISBLANK(A24),"",ROW()) -> 24 | D24: Extends the watch range. | E24: Empire | F24: Deffense | G24: TechWatchTowerWood | H24: WatchTowerStone | J24: 200 | K24: =J24*0.1 -> 20 | M24: 12 | R24: 1 | T24: 1 | U24: CommandCenter | V24: EmptyArea | W24: 1 | AA24: Y | AB24: Y | AC24: 4 | AG24: 1 | AL24: =IF(_Design!H22>=0,"",-_Design!H22) | AM24: =IF(_Design!I22>=0,"",-_Design!I22) | AN24: =IF(_Design!J22>=0,"",-_Design!J22) | AO24: =IF(_Design!K22=0,"",_Design!K22) -> 200 | AP24: =IF(_Design!L22=0,"",_Design!L22) -> 20 | AQ24: =IF(_Design!M22=0,"",_Design!M22) | AR24: =IF(_Design!N22=0,"",_Design!N22) | AS24: =IF(_Design!O22=0,"",_Design!O22) | AT24: =IF(_Design!G22<=0,"",_Design!G22) | AU24: =IF(_Design!H22<=0,"",_Design!H22) | AV24: =IF(_Design!I22<=0,"",_Design!I22) | AW24: =IF(_Design!J22<=0,"",_Design!J22)
A25: Market | B25: =IF(ISBLANK(A25),"",ROW()) -> 25 | D25: It allows to commerce with resources. Also it coverts resources excess into gold. | E25: Empire | F25: Industry | G25: TechMarket | J25: 200 | K25: =J25*0.1 -> 20 | M25: 7 | R25: 1 | T25: 1 | U25: =$U$33 -> CommandCenter | V25: EmptyArea | W25: 1 | AA25: Y | AB25: Y | AD25: 4 | AG25: 1 | AJ25: Y | AL25: =IF(_Design!H23>=0,"",-_Design!H23) -> 6 | AM25: =IF(_Design!I23>=0,"",-_Design!I23) | AN25: =IF(_Design!J23>=0,"",-_Design!J23) -> 6 | AO25: =IF(_Design!K23=0,"",_Design!K23) -> 600 | AP25: =IF(_Design!L23=0,"",_Design!L23) -> 40 | AQ25: =IF(_Design!M23=0,"",_Design!M23) | AR25: =IF(_Design!N23=0,"",_Design!N23) | AS25: =IF(_Design!O23=0,"",_Design!O23) | AT25: =IF(_Design!G23<=0,"",_Design!G23) | AU25: =IF(_Design!H23<=0,"",_Design!H23) | AV25: =IF(_Design!I23<=0,"",_Design!I23) | AW25: =IF(_Design!J23<=0,"",_Design!J23) | BD25: Y
D26: LEVEL 3: Advanced Stone Buildings
A27: StoneWorkshop | B27: =IF(ISBLANK(A27),"",ROW()) -> 27 | D27: It allows stone based improvements. | E27: Empire | F27: Industry | G27: TechStoneWorkshop | J27: 600 | K27: =J27*0.1 -> 60 | M27: 7 | R27: 1 | T27: 1 | U27: CommandCenter | V27: EmptyArea | W27: 1 | AB27: Y | AD27: 1 | AG27: 1 | AJ27: Y | AL27: =IF(_Design!H25>=0,"",-_Design!H25) -> 12 | AM27: =IF(_Design!I25>=0,"",-_Design!I25) | AN27: =IF(_Design!J25>=0,"",-_Design!J25) -> 20 | AO27: =IF(_Design!K25=0,"",_Design!K25) -> 800 | AP27: =IF(_Design!L25=0,"",_Design!L25) -> 40 | AQ27: =IF(_Design!M25=0,"",_Design!M25) -> 40 | AR27: =IF(_Design!N25=0,"",_Design!N25) | AS27: =IF(_Design!O25=0,"",_Design!O25) | AT27: =IF(_Design!G25<=0,"",_Design!G25) | AU27: =IF(_Design!H25<=0,"",_Design!H25) | AV27: =IF(_Design!I25<=0,"",_Design!I25) | AW27: =IF(_Design!J25<=0,"",_Design!J25)
A28: StoneHouse | B28: =IF(ISBLANK(A28),"",ROW()) -> 28 | D28: Big dwelling for the colonists. Provides workers and gold tributtes. | E28: Empire | F28: Dwellings | G28: TechStoneHouse | H28: BunkerHouse | J28: 400 | K28: =J28*0.1 -> 40 | M28: 6 | R28: 1 | T28: 1 | U28: CommandCenter | V28: EmptyArea | Z28: 2 | AA28: Y | AB28: Y | AG28: 1 | AJ28: Y | AL28: =IF(_Design!H26>=0,"",-_Design!H26) | AM28: =IF(_Design!I26>=0,"",-_Design!I26) -> 16 | AN28: =IF(_Design!J26>=0,"",-_Design!J26) -> 4 | AO28: =IF(_Design!K26=0,"",_Design!K26) -> 200 | AP28: =IF(_Design!L26=0,"",_Design!L26) -> 15 | AQ28: =IF(_Design!M26=0,"",_Design!M26) -> 10 | AR28: =IF(_Design!N26=0,"",_Design!N26) | AS28: =IF(_Design!O26=0,"",_Design!O26) | AT28: =IF(_Design!G26<=0,"",_Design!G26) -> 16 | AU28: =IF(_Design!H26<=0,"",_Design!H26) -> 8 | AV28: =IF(_Design!I26<=0,"",_Design!I26) | AW28: =IF(_Design!J26<=0,"",_Design!J26)
A29: WallStone | B29: =IF(ISBLANK(A29),"",ROW()) -> 29 | D29: Wall made of stone. | E29: Empire | F29: Deffense | G29: TechStoneWall | J29: 300 | K29: =J29*0.1 -> 30 | R29: 1 | T29: 1 | U29: CommandCenter | V29: EmptyArea | Y29: Y | AA29: Y | AB29: Y | AG29: 1 | AL29: =IF(_Design!H27>=0,"",-_Design!H27) | AM29: =IF(_Design!I27>=0,"",-_Design!I27) | AN29: =IF(_Design!J27>=0,"",-_Design!J27) | AO29: =IF(_Design!K27=0,"",_Design!K27) -> 20 | AP29: =IF(_Design!L27=0,"",_Design!L27) -> 2 | AQ29: =IF(_Design!M27=0,"",_Design!M27) -> 2 | AR29: =IF(_Design!N27=0,"",_Design!N27) | AS29: =IF(_Design!O27=0,"",_Design!O27) | AT29: =IF(_Design!G27<=0,"",_Design!G27) | AU29: =IF(_Design!H27<=0,"",_Design!H27) | AV29: =IF(_Design!I27<=0,"",_Design!I27) | AW29: =IF(_Design!J27<=0,"",_Design!J27)
A30: GateStone | B30: =IF(ISBLANK(A30),"",ROW()) -> 30 | D30: Gate made of stone. | E30: Empire | F30: Deffense | G30: TechStoneWall | J30: 300 | K30: =J30*0.1 -> 30 | R30: 1 | T30: 1 | U30: CommandCenter | V30: EmptyArea | Y30: Y | AA30: Y | AB30: Y | AG30: 1 | AL30: =IF(_Design!H28>=0,"",-_Design!H28) | AM30: =IF(_Design!I28>=0,"",-_Design!I28) | AN30: =IF(_Design!J28>=0,"",-_Design!J28) | AO30: =IF(_Design!K28=0,"",_Design!K28) -> 200 | AP30: =IF(_Design!L28=0,"",_Design!L28) -> 16 | AQ30: =IF(_Design!M28=0,"",_Design!M28) -> 16 | AR30: =IF(_Design!N28=0,"",_Design!N28) | AS30: =IF(_Design!O28=0,"",_Design!O28) | AT30: =IF(_Design!G28<=0,"",_Design!G28) | AU30: =IF(_Design!H28<=0,"",_Design!H28) | AV30: =IF(_Design!I28<=0,"",_Design!I28) | AW30: =IF(_Design!J28<=0,"",_Design!J28)
A31: WatchTowerStone | B31: =IF(ISBLANK(A31),"",ROW()) -> 31 | D31: Extends the watch range. | E31: Empire | F31: Deffense | G31: TechWatchTowerStone | J31: 600 | K31: =J31*0.1 -> 60 | M31: 16 | R31: 1 | T31: 1 | U31: CommandCenter | V31: EmptyArea | W31: 1 | AA31: Y | AB31: Y | AC31: 4 | AG31: 1 | AL31: =IF(_Design!H29>=0,"",-_Design!H29) | AM31: =IF(_Design!I29>=0,"",-_Design!I29) | AN31: =IF(_Design!J29>=0,"",-_Design!J29) | AO31: =IF(_Design!K29=0,"",_Design!K29) -> 350 | AP31: =IF(_Design!L29=0,"",_Design!L29) -> 20 | AQ31: =IF(_Design!M29=0,"",_Design!M29) -> 20 | AR31: =IF(_Design!N29=0,"",_Design!N29) | AS31: =IF(_Design!O29=0,"",_Design!O29) | AT31: =IF(_Design!G29<=0,"",_Design!G29) | AU31: =IF(_Design!H29<=0,"",_Design!H29) | AV31: =IF(_Design!I29<=0,"",_Design!I29) | AW31: =IF(_Design!J29<=0,"",_Design!J29)
A32: PowerPlant | B32: =IF(ISBLANK(A32),"",ROW()) -> 32 | D32: Generates energy from resources. | E32: Empire | F32: Energy | G32: TechPowerPlant | J32: 100 | K32: =J32*0.1 -> 10 | M32: 6 | R32: 1 | T32: 1 | U32: CommandCenter | V32: EmptyArea | W32: 1 | AA32: Y | AB32: Y | AG32: 1 | AJ32: Y | AL32: =IF(_Design!H30>=0,"",-_Design!H30) -> 6 | AM32: =IF(_Design!I30>=0,"",-_Design!I30) | AN32: =IF(_Design!J30>=0,"",-_Design!J30) | AO32: =IF(_Design!K30=0,"",_Design!K30) -> 800 | AP32: =IF(_Design!L30=0,"",_Design!L30) -> 50 | AQ32: =IF(_Design!M30=0,"",_Design!M30) -> 30 | AR32: =IF(_Design!N30=0,"",_Design!N30) | AS32: =IF(_Design!O30=0,"",_Design!O30) | AT32: =IF(_Design!G30<=0,"",_Design!G30) | AU32: =IF(_Design!H30<=0,"",_Design!H30) | AV32: =IF(_Design!I30<=0,"",_Design!I30) | AW32: =IF(_Design!J30<=0,"",_Design!J30) -> 160 | AX32: -5 | AY32: -5 | BE32: 2
A33: WareHouse | B33: =IF(ISBLANK(A33),"",ROW()) -> 33 | D33: It stores resources. Increases the total storage. | E33: Empire | F33: Industry | G33: TechWareHouse | J33: 400 | K33: =J33*0.1 -> 40 | M33: 7 | R33: 1 | T33: 1 | U33: CommandCenter | V33: EmptyArea | W33: 1 | AA33: Y | AB33: Y | AF33: 100 | AG33: 1 | AJ33: Y | AL33: =IF(_Design!H31>=0,"",-_Design!H31) -> 4 | AM33: =IF(_Design!I31>=0,"",-_Design!I31) | AN33: =IF(_Design!J31>=0,"",-_Design!J31) -> 10 | AO33: =IF(_Design!K31=0,"",_Design!K31) -> 600 | AP33: =IF(_Design!L31=0,"",_Design!L31) -> 40 | AQ33: =IF(_Design!M31=0,"",_Design!M31) -> 20 | AR33: =IF(_Design!N31=0,"",_Design!N31) | AS33: =IF(_Design!O31=0,"",_Design!O31) | AT33: =IF(_Design!G31<=0,"",_Design!G31) | AU33: =IF(_Design!H31<=0,"",_Design!H31) | AV33: =IF(_Design!I31<=0,"",_Design!I31) | AW33: =IF(_Design!J31<=0,"",_Design!J31)
A34: EngineersCenter | B34: =IF(ISBLANK(A34),"",ROW()) -> 34 | D34: Can create engineers. | E34: Empire | F34: Military | G34: TechUnavailable | J34: 400 | K34: =J34*0.1 -> 40 | M34: 7 | R34: 1 | T34: 1 | U34: CommandCenter | V34: EmptyArea | W34: 1 | AA34: Y | AB34: Y | AG34: 1 | AJ34: Y | AL34: =IF(_Design!H32>=0,"",-_Design!H32) | AM34: =IF(_Design!I32>=0,"",-_Design!I32) | AN34: =IF(_Design!J32>=0,"",-_Design!J32) | AO34: =IF(_Design!K32=0,"",_Design!K32) | AP34: =IF(_Design!L32=0,"",_Design!L32) | AQ34: =IF(_Design!M32=0,"",_Design!M32) | AR34: =IF(_Design!N32=0,"",_Design!N32) | AS34: =IF(_Design!O32=0,"",_Design!O32) | AT34: =IF(_Design!G32<=0,"",_Design!G32) | AU34: =IF(_Design!H32<=0,"",_Design!H32) | AV34: =IF(_Design!I32<=0,"",_Design!I32) | AW34: =IF(_Design!J32<=0,"",_Design!J32)
D35: LEVEL 4: Advanced Iron Buildings
A36: Foundry | B36: =IF(ISBLANK(A36),"",ROW()) -> 36 | D36: It allows iron based improvements. | E36: Empire | F36: Industry | G36: TechFoundry | J36: 600 | K36: =J36*0.1 -> 60 | M36: 7 | R36: 1 | T36: 1 | U36: CommandCenter | V36: EmptyArea | W36: 1 | AA36: Y | AB36: Y | AD36: 1 | AG36: 1 | AJ36: Y | AL36: =IF(_Design!H34>=0,"",-_Design!H34) -> 16 | AM36: =IF(_Design!I34>=0,"",-_Design!I34) | AN36: =IF(_Design!J34>=0,"",-_Design!J34) -> 30 | AO36: =IF(_Design!K34=0,"",_Design!K34) -> 1200 | AP36: =IF(_Design!L34=0,"",_Design!L34) -> 50 | AQ36: =IF(_Design!M34=0,"",_Design!M34) -> 50 | AR36: =IF(_Design!N34=0,"",_Design!N34) -> 40 | AS36: =IF(_Design!O34=0,"",_Design!O34) | AT36: =IF(_Design!G34<=0,"",_Design!G34) | AU36: =IF(_Design!H34<=0,"",_Design!H34) | AV36: =IF(_Design!I34<=0,"",_Design!I34) | AW36: =IF(_Design!J34<=0,"",_Design!J34)
A37: AdvancedQuarry | B37: =IF(ISBLANK(A37),"",ROW()) -> 37 | D37: Improved version. Generate stone, iron and gold from surrounding resources. | E37: Empire | F37: Resources | G37: TechAdvancedQuarry | J37: 600 | K37: =J37*0.1 -> 60 | M37: 7 | R37: 1 | T37: 1 | U37: CommandCenter | V37: NearMineral | W37: 1 | AA37: Y | AG37: 1 | AJ37: Y | AL37: =IF(_Design!H35>=0,"",-_Design!H35) -> 4 | AM37: =IF(_Design!I35>=0,"",-_Design!I35) | AN37: =IF(_Design!J35>=0,"",-_Design!J35) -> 20 | AO37: =IF(_Design!K35=0,"",_Design!K35) -> 600 | AP37: =IF(_Design!L35=0,"",_Design!L35) -> 50 | AQ37: =IF(_Design!M35=0,"",_Design!M35) -> 30 | AR37: =IF(_Design!N35=0,"",_Design!N35) -> 20 | AS37: =IF(_Design!O35=0,"",_Design!O35) | AT37: =IF(_Design!G35<=0,"",_Design!G35) | AU37: =IF(_Design!H35<=0,"",_Design!H35) | AV37: =IF(_Design!I35<=0,"",_Design!I35) | AW37: =IF(_Design!J35<=0,"",_Design!J35) | BE37: 2 | BF37: Mining | BG37: 2 | BH37: 1 | BI37: =((2*BG37+2)*(2*BG37+2)-4)*BH37/3 -> 10.666667
A38: MillIron | B38: =IF(ISBLANK(A38),"",ROW()) -> 38 | D38: Improved version. Generate energy from the wind. | E38: Empire | F38: Energy | G38: TechIronMill | J38: 600 | K38: =J38*0.1 -> 60 | M38: 7 | R38: 1 | T38: 1 | U38: CommandCenter | V38: EmptyArea | W38: 1 | AA38: Y | AG38: 1 | AJ38: Y | AL38: =IF(_Design!H36>=0,"",-_Design!H36) -> 4 | AM38: =IF(_Design!I36>=0,"",-_Design!I36) | AN38: =IF(_Design!J36>=0,"",-_Design!J36) | AO38: =IF(_Design!K36=0,"",_Design!K36) -> 600 | AP38: =IF(_Design!L36=0,"",_Design!L36) -> 50 | AQ38: =IF(_Design!M36=0,"",_Design!M36) | AR38: =IF(_Design!N36=0,"",_Design!N36) -> 20 | AS38: =IF(_Design!O36=0,"",_Design!O36) | AT38: =IF(_Design!G36<=0,"",_Design!G36) | AU38: =IF(_Design!H36<=0,"",_Design!H36) | AV38: =IF(_Design!I36<=0,"",_Design!I36) | AW38: =IF(_Design!J36<=0,"",_Design!J36) -> 50
A39: Bank | B39: =IF(ISBLANK(A39),"",ROW()) -> 39 | D39: Increases the tributes gathering from the colonists. | E39: Empire | F39: Industry | G39: TechBank | J39: 600 | K39: =J39*0.1 -> 60 | M39: 7 | R39: 1 | T39: 1 | U39: CommandCenter | V39: EmptyArea | W39: 1 | AA39: Y | AD39: 4 | AG39: 1 | AJ39: Y | AL39: =IF(_Design!H37>=0,"",-_Design!H37) -> 6 | AM39: =IF(_Design!I37>=0,"",-_Design!I37) | AN39: =IF(_Design!J37>=0,"",-_Design!J37) -> 12 | AO39: =IF(_Design!K37=0,"",_Design!K37) -> 1000 | AP39: =IF(_Design!L37=0,"",_Design!L37) -> 50 | AQ39: =IF(_Design!M37=0,"",_Design!M37) -> 50 | AR39: =IF(_Design!N37=0,"",_Design!N37) -> 10 | AS39: =IF(_Design!O37=0,"",_Design!O37) | AT39: =IF(_Design!G37<=0,"",_Design!G37) | AU39: =IF(_Design!H37<=0,"",_Design!H37) | AV39: =IF(_Design!I37<=0,"",_Design!I37) | AW39: =IF(_Design!J37<=0,"",_Design!J37) | BC39: =BC7*0.2 -> 0.1
A40: OilPlatform | B40: =IF(ISBLANK(A40),"",ROW()) -> 40 | D40: It allows oil collecting. | E40: Empire | F40: Resources | G40: TechOilPlatform | J40: 600 | K40: =J40*0.1 -> 60 | M40: 7 | R40: 1 | T40: 1 | U40: CommandCenter | V40: OilSource | Y40: Y | AA40: Y | AG40: 1 | AJ40: Y | AL40: =IF(_Design!H38>=0,"",-_Design!H38) -> 6 | AM40: =IF(_Design!I38>=0,"",-_Design!I38) | AN40: =IF(_Design!J38>=0,"",-_Design!J38) -> 24 | AO40: =IF(_Design!K38=0,"",_Design!K38) -> 800 | AP40: =IF(_Design!L38=0,"",_Design!L38) -> 80 | AQ40: =IF(_Design!M38=0,"",_Design!M38) -> 20 | AR40: =IF(_Design!N38=0,"",_Design!N38) -> 30 | AS40: =IF(_Design!O38=0,"",_Design!O38) | AT40: =IF(_Design!G38<=0,"",_Design!G38) | AU40: =IF(_Design!H38<=0,"",_Design!H38) | AV40: =IF(_Design!I38<=0,"",_Design!I38) | AW40: =IF(_Design!J38<=0,"",_Design!J38) | BA40: 5 | BE40: 2 | BF40: OilExtraction
D41: LEVEL 5: Advanced Oil Buildings
A42: Refinery | B42: =IF(ISBLANK(A42),"",ROW()) -> 42 | D42: It allows iron based improvements. | E42: Empire | F42: Industry | G42: TechRefinery | J42: 1000 | K42: =J42*0.1 -> 100 | M42: 7 | R42: 1 | T42: 1 | U42: CommandCenter | V42: EmptyArea | W42: 1 | AD42: 1 | AG42: 1 | AJ42: Y | AL42: =IF(_Design!H40>=0,"",-_Design!H40) -> 20 | AM42: =IF(_Design!I40>=0,"",-_Design!I40) | AN42: =IF(_Design!J40>=0,"",-_Design!J40) -> 40 | AO42: =IF(_Design!K40=0,"",_Design!K40) -> 1600 | AP42: =IF(_Design!L40=0,"",_Design!L40) -> 100 | AQ42: =IF(_Design!M40=0,"",_Design!M40) -> 50 | AR42: =IF(_Design!N40=0,"",_Design!N40) -> 40 | AS42: =IF(_Design!O40=0,"",_Design!O40) -> 40 | AT42: =IF(_Design!G40<=0,"",_Design!G40) | AU42: =IF(_Design!H40<=0,"",_Design!H40) | AV42: =IF(_Design!I40<=0,"",_Design!I40) | AW42: =IF(_Design!J40<=0,"",_Design!J40)
A43: BunkerHouse | B43: =IF(ISBLANK(A43),"",ROW()) -> 43 | D43: Biggest dwelling for the colonists very well defended. Provides workers and gold tributtes. | E43: Empire | F43: Dwellings | G43: TechBunkerHouse | J43: 1000 | K43: =J43*0.1 -> 100 | M43: 7 | R43: 1 | T43: 1 | U43: CommandCenter | V43: EmptyArea | Z43: 2 | AA43: Y | AB43: Y | AG43: 1 | AJ43: Y | AL43: =IF(_Design!H41>=0,"",-_Design!H41) | AM43: =IF(_Design!I41>=0,"",-_Design!I41) -> 24 | AN43: =IF(_Design!J41>=0,"",-_Design!J41) -> 8 | AO43: =IF(_Design!K41=0,"",_Design!K41) -> 350 | AP43: =IF(_Design!L41=0,"",_Design!L41) -> 20 | AQ43: =IF(_Design!M41=0,"",_Design!M41) -> 20 | AR43: =IF(_Design!N41=0,"",_Design!N41) -> 10 | AS43: =IF(_Design!O41=0,"",_Design!O41) -> 5 | AT43: =IF(_Design!G41<=0,"",_Design!G41) -> 24 | AU43: =IF(_Design!H41<=0,"",_Design!H41) -> 12 | AV43: =IF(_Design!I41<=0,"",_Design!I41) | AW43: =IF(_Design!J41<=0,"",_Design!J41)
...

Sheet _Design
Q1: v | R1: r | S1: s | T1: t | U1: u | V1: v
A2: =SUM(A5:A51) -> 30 | C2: Resources | D2: Size | E2: Category | F2: Instances | G2: Colonists | H2: Workers | I2: Food | J2: Energy | K2: Gold | L2: Wood | M2: Stone | N2: Iron | O2: Oil | P2: Allows | R2: Gold Age | S2: Wood Age | T2: Stone Age | U2: Iron Age | V2: Oil Age
F3: =SUM(F4:F43) -> 129 | G3: =SUMPRODUCT($F5:$F43,G5:G43) -> 1020 | H3: =SUMPRODUCT($F5:$F43,H5:H43) -> 253 | I3: =SUMPRODUCT($F5:$F43,I5:I43) -> 340 | J3: =SUMPRODUCT($F5:$F43,J5:J43) -> 58 | K3: =SUMPRODUCT($F5:$F43,K5:K43) -> 53350 | R3: =SUM(R4:R43) -> 28 | S3: =SUM(S4:S43) -> 55 | T3: =SUM(T4:T43) -> 94 | U3: =SUM(U4:U43) -> 123 | V3: =SUM(V4:V43) -> 129
A5: 5 | B5: With Gold | C5: CommandCenter | D5: 5 | F5: =INDIRECT($Q$1&ROW()) -> 1 | H5: 5 | I5: 20 | J5: 20 | K5: 2000 | L5: 50 | M5: 50 | R5: 1 | S5: 1 | T5: 1 | U5: 1 | V5: 1
C7: Tent | D7: 2 | E7: D | F7: =INDIRECT($Q$1&ROW()) -> 0 | G7: 4 | H7: =G7/2 -> 2 | I7: =-G7 -> -4 | K7: 30 | R7: 14
C8: FishermanCottage | D8: 1 | E8: R | F8: =INDIRECT($Q$1&ROW()) -> 10 | G8: 1 | I8: 9 | J8: -1 | K8: 80 | R8: 3 | S8: 4 | T8: 10 | U8: 10 | V8: 10
C9: HunterCottage | D9: 1 | E9: R | F9: =INDIRECT($Q$1&ROW()) -> 10 | G9: 1 | I9: 9 | J9: -1 | K9: 80 | R9: 3 | S9: 4 | T9: 10 | U9: 10 | V9: 10
C10: SawMill | D10: 2 | E10: R | F10: =INDIRECT($Q$1&ROW()) -> 6 | H10: -4 | J10: -4 | K10: 300 | R10: 1 | S10: 2 | T10: 4 | U10: 5 | V10: 6
A12: 10 | B12: With Wood | C12: TeslaTower | D12: 1 | E12: E | F12: =INDIRECT($Q$1&ROW()) -> 16 | H12: -1 | K12: 200 | L12: 10 | R12: 4 | S12: 8 | T12: 12 | U12: 16 | V12: 16
C13: WoodMill | D13: 2 | E13: E | F13: =INDIRECT($Q$1&ROW()) -> 0 | H13: -4 | J13: 30 | K13: 300 | L13: 20 | R13: 1 | S13: 3 | T13: 4
C14: Quarry | D14: 2 | E14: R | F14: =INDIRECT($Q$1&ROW()) -> 6 | H14: -4 | J14: -6 | K14: 350 | L14: 30 | R14: 1 | T14: 4 | U14: 5 | V14: 6
C15: WoodWall | D15: 1 | E15: M | F15: =INDIRECT($Q$1&ROW()) -> 0 | K15: 10 | L15: 2
C16: WoodGate | D16: 1 | E16: M | F16: =INDIRECT($Q$1&ROW()) -> 0 | K16: =K15*10 -> 100 | L16: =L15*8 -> 16
C18: SoldiersCenter | D18: 3 | E18: M | F18: =INDIRECT($Q$1&ROW()) -> 3 | H18: -8 | J18: -8 | K18: 500 | L18: 20 | M18: 20 | P18: Ranger, SoldierRegular | T18: 1 | U18: 2 | V18: 3
C19: WoodWorkshop | D19: 4 | E19: I | F19: =INDIRECT($Q$1&ROW()) -> 1 | H19: -8 | J19: -12 | K19: 600 | L19: 40 | P19: Trampa Estacas | S19: 1 | T19: 1 | U19: 1 | V19: 1
C20: WoodHouse | D20: 2 | E20: D | F20: =INDIRECT($Q$1&ROW()) -> 0 | G20: 8 | H20: =G20/2 -> 4 | I20: =-G20 -> -8 | J20: -2 | K20: 80 | L20: 10 | S20: 24
C21: Farm | D21: 2 | E21: R | F21: =INDIRECT($Q$1&ROW()) -> 0 | G21: 4 | I21: 55 | J21: -4 | K21: 300 | L21: 30 | S21: 3 | T21: 8 | U21: 11
C22: WoodTower | D22: 1 | E22: M | F22: =INDIRECT($Q$1&ROW()) -> 4 | K22: 200 | L22: 20 | S22: 4 | T22: 4 | U22: 4 | V22: 4
C23: Market | D23: 3 | E23: I | F23: =INDIRECT($Q$1&ROW()) -> 1 | H23: -6 | J23: -6 | K23: 600 | L23: 40 | S23: 1 | T23: 1 | U23: 1 | V23: 1
A25: 6 | B25: With Stone | C25: StoneWorkshop | D25: 4 | E25: I | F25: =INDIRECT($Q$1&ROW()) -> 1 | H25: -12 | J25: -20 | K25: 800 | L25: 40 | M25: 40 | T25: 1 | U25: 1 | V25: 1
C26: StoneHouse | D26: 1 | E26: D | F26: =INDIRECT($Q$1&ROW()) -> 0 | G26: 16 | H26: =G26/2 -> 8 | I26: =-G26 -> -16 | J26: -4 | K26: 200 | L26: 15 | M26: 10 | T26: 30 | U26: 40
C27: StoneWall | D27: 1 | E27: M | F27: =INDIRECT($Q$1&ROW()) -> 0 | K27: 20 | L27: =L15 -> 2 | M27: 2
C28: StoneGate | D28: 1 | E28: M | F28: =INDIRECT($Q$1&ROW()) -> 0 | K28: =K27*10 -> 200 | L28: =L27*8 -> 16 | M28: =M27*8 -> 16
C29: StoneTower | D29: 1 | E29: M | F29: =INDIRECT($Q$1&ROW()) -> 1 | K29: 350 | L29: 20 | M29: 20 | T29: 1 | U29: 1 | V29: 1
C30: PowerPlant | D30: 3 | E30: E | F30: =INDIRECT($Q$1&ROW()) -> 4 | H30: -6 | J30: 160 | K30: 800 | L30: 50 | M30: 30 | T30: 1 | U30: 2 | V30: 4
C31: WareHouse | D31: 3 | E31: I | F31: =INDIRECT($Q$1&ROW()) -> 1 | H31: -4 | J31: -10 | K31: 600 | L31: 40 | M31: 20 | T31: 1 | U31: 1 | V31: 1
A34: 5 | B34: With Iron | C34: Foundry | D34: 4 | E34: I | F34: =INDIRECT($Q$1&ROW()) -> 1 | H34: -16 | J34: -30 | K34: 1200 | L34: 50 | M34: 50 | N34: 40 | P34: Snipper, MachineGunSoldier, Trampa Cepo | U34: 1 | V34: 1
C35: AdvancedQuarry | D35: 2 | E35: R | F35: =INDIRECT($Q$1&ROW()) -> 4 | H35: =H14 -> -4 | J35: -20 | K35: 600 | L35: 50 | M35: 30 | N35: 20 | U35: 4 | V35: 4
C36: IronMill | D36: 2 | E36: E | F36: =INDIRECT($Q$1&ROW()) -> 5 | H36: -4 | J36: 50 | K36: 600 | L36: 50 | N36: 20 | U36: 4 | V36: 5
C37: Bank | D37: 3 | E37: R | F37: =INDIRECT($Q$1&ROW()) -> 1 | H37: -6 | J37: -12 | K37: 1000 | L37: 50 | M37: 50 | N37: 10 | U37: 1 | V37: 1
C38: OilPlatform | D38: 2 | E38: R | F38: =INDIRECT($Q$1&ROW()) -> 2 | H38: -6 | J38: -24 | K38: 800 | L38: 80 | M38: 20 | N38: 30 | U38: 2 | V38: 2
A40: 4 | B40: With Oil | C40: Refinery | D40: 4 | E40: I | F40: =INDIRECT($Q$1&ROW()) -> 0 | H40: -20 | J40: -40 | K40: 1600 | L40: 100 | M40: 50 | N40: 40 | O40: 40 | P40: Trampa Minas explosivas, ArtilleryMan, Piromancer
C41: BunkerHouse | D41: 2 | E41: D | F41: =INDIRECT($Q$1&ROW()) -> 40 | G41: 24 | H41: =G41/2 -> 12 | I41: =-G41 -> -24 | J41: -8 | K41: 350 | L41: 20 | M41: 20 | N41: 10 | O41: 5 | V41: 40
C42: AdvancedFarm | D42: 2 | E42: R | F42: =INDIRECT($Q$1&ROW()) -> 10 | G42: 4 | I42: 110 | J42: -16 | K42: 800 | L42: 50 | M42: 40 | O42: 10 | V42: 10
C43: Shuttle | D43: 3 | E43: M | F43: =INDIRECT($Q$1&ROW()) -> 1 | H43: -20 | J43: -50 | K43: 3000 | L43: 100 | M43: 100 | N43: 50 | O43: 50 | P43: Missiles | V43: 1
G47: Base | H47: 50
G48: Per Colonist | H48: 0.5
G51: Colonists | H51: Gold/Turn
G52: 20 | H52: =$H$47+G52*$H$48 -> 60 | I52: =H52/$H$52 -> 1
G53: 50 | H53: =$H$47+G53*$H$48 -> 75 | I53: =H53/$H$52 -> 1.25
...

Sheet Commands
A1: ID | B1: Order | C1: Key | D1: _NOTES_ | E1: Show As Command | F1: Category | G1: Command Requisite | H1: Building Requisite | I1: Available For | J1: Building Time Factor | K1: Only One Execution | L1: Infected | M1: Can Burn | N1: Wood Cost | O1: Stone Cost | P1: Iron Cost | Q1: Oil Cost | R1: Gold Cost | T1: Action Range | U1: Damage | W1: Ani Load | X1: Time Load | Y1: Ani Action | Z1: Time Action | AA1: Ani Unload | AB1: Time Unload | AC1: UnLoad Reverse | AE1: Time Factor Action | AG1: Proyectile Type | AH1: Proyectile Speed | AJ1: AnimationTarget Effect | AK1: Animation Proyectile Effect | AL1: Effect Radius | AM1: Factor Push
E2: If TRUE the command will be displayed in the command list. | F2: None, Dwellings, Resources, Energy, Millitary, Industry | G2: The Command only will be available once the selecte command has been executed. | H2: At least one instance of this building must exit. | I2: Entity that have this command available. | J2: It will be multiplied by the Global DefaultBuilidingTime. | K2: If True, then the command can only be execute once per level. | L2: If true, this attack can infect the target. | M2: In case it is an attack, TRUE if it can burn or activate oils stains or mine traps. | T2: In Cells | W2: Animation Name | X2: Time in Ms | Y2: Animation Name | Z2: Time in Ms | AA2: Animation Name | AB2: Time in Ms | AC2: Animation will be executed from end to start | AE2: Factor of the Time Action in which the action damage will be performed or the proyectile is thrown. | AG2: Type of proyectile. | AH2: Proyectile Speed in cells per second | AJ2: Type of animation for the effect on the target. | AK2: Type of animation of the impact of the proyecile. | AL2: In Cells. If Empty then the target is a single unit. | AM2: Factor to push units when being hit. If empty then no push.
D4: TECHNOLOGIES
A5: TechWatchTowerWood | B5: =ROW() -> 5 | D5: Enable WatchTowerWood building. | E5: Y | I5: WoodWorkshop | J5: 1 | K5: Y | R5: 250
A6: TechTrapStakes | B6: =ROW() -> 6 | D6: Enable Trap Stakes placing. | E6: Y | I6: WoodWorkshop | J6: 1 | K6: Y | R6: 300
A7: TechWoodHouse | B7: =ROW() -> 7 | D7: Enable Wood House building. | E7: Y | I7: WoodWorkshop | J7: 1 | K7: Y | R7: 350
A8: TechFarms | B8: =ROW() -> 8 | D8: Enable Farms building. | E8: Y | I8: WoodWorkshop | J8: 1 | K8: Y | R8: 400
A9: TechMarket | B9: =ROW() -> 9 | D9: Enable Market building. | E9: Y | I9: WoodWorkshop | J9: 1 | K9: Y | R9: 450
A10: TechStoneWorkshop | B10: =ROW() -> 10 | D10: Enable StoneWorkshop building. | E10: Y | I10: WoodWorkshop | J10: 1 | K10: Y | R10: 500
A12: TechStoneHouse | B12: =ROW() -> 12 | D12: Enable Stone House building. | E12: Y | I12: StoneWorkshop | J12: 1 | K12: Y | R12: 500
A13: TechWatchTowerStone | B13: =ROW() -> 13 | D13: Enable Stone House building. | E13: Y | I13: StoneWorkshop | J13: 1 | K13: Y | R13: 400
A14: TechStoneWall | B14: =ROW() -> 14 | D14: Enable Stone Wall building. | E14: Y | I14: StoneWorkshop | J14: 1 | K14: Y | R14: 400
A15: TechWareHouse | B15: =ROW() -> 15 | D15: Enable WareHouse building. | E15: Y | I15: StoneWorkshop | J15: 1 | K15: Y | R15: 600
A16: TechPowerPlant | B16: =ROW() -> 16 | D16: Enable Power Plant building. | E16: Y | I16: StoneWorkshop | J16: 1 | K16: Y | R16: 700
A17: TechFoundry | B17: =ROW() -> 17 | D17: Enable Foundry building. | E17: Y | I17: StoneWorkshop | J17: 1 | K17: Y | R17: 800
... A33: TechArtilleryMan | B33: =ROW() -> 33 | D33: Enable ArtilleryMan unit. | E33: Y | I33: Refinery | J33: 1 | K33: Y | R33: 2000
A35: TechUnavailable | D35: This tecnhonolgy is for deactivating buidings.
D37: SOLDIERS
A38: SoldierRegularAttack | B38: 4 | D38: Basic attack of Regular Soldiers | I38: RegularSoldier | M38: Y | T38: 5 | U38: 5 | W38: LoadAttack | X38: 500 | Y38: Shoot | Z38: 500 | AA38: LoadAttack | AB38: 500 | AC38: Y | AE38: 0.5
A39: RangerAttack | B39: 4 | D39: Basic attack of Rangers | I39: Ranger | T39: 6 | U39: 4 | W39: LoadAttack | X39: 500 | Y39: Shoot | Z39: 1000 | AA39: LoadAttack | AB39: 500 | AC39: Y | AE39: 0.2 | AG39: Arrow | AH39: 10 | AM39: 8
A40: ArtilleryManExplosive | B40: 4 | I40: ArtilleryMan | M40: Y | T40: 10 | U40: 10 | W40: LoadAttack | X40: 500 | Y40: Shoot | Z40: 500 | AA40: LoadAttack | AB40: 500 | AC40: Y | AE40: 0.5 | AG40: TestBall | AH40: 10 | AL40: 3 | AM40: 5
D45: ZOMBIES
A46: ZombieWeakAttack | B46: =IF(ISBLANK(A46),"",ROW()) -> 46 | D46: Basic attack for Weak Zombies. | I46: ZombieWeak | L46: Y | T46: 0.8 | U46: 5 | Y46: Attack | Z46: 1000 | AE46: 0.5
A47: ZombieWeakAAttack | B47: =IF(ISBLANK(A47),"",ROW()) -> 47 | D47: Basic attack for Weak Zombies. | I47: ZombieWeakA | L47: Y | T47: 0.8 | U47: 5 | Y47: Attack | Z47: 1000 | AE47: 0.5
A48: ZombieWeakBAttack | B48: =IF(ISBLANK(A48),"",ROW()) -> 48 | D48: Basic attack for Weak Zombies. | I48: ZombieWeakB | L48: Y | T48: 0.8 | U48: 5 | Y48: Attack | Z48: 1000 | AE48: 0.5
A49: ZombieWeakCAttack | B49: =IF(ISBLANK(A49),"",ROW()) -> 49 | D49: Basic attack for Weak Zombies. | I49: ZombieWeakC | L49: Y | T49: 0.8 | U49: 5 | Y49: Attack | Z49: 1000 | AE49: 0.5
A50: ZombieDressedBAttack | B50: =IF(ISBLANK(A50),"",ROW()) -> 50 | D50: Basic attack for Weak Zombies. | I50: ZombieDressedA | L50: Y | T50: 0.8 | U50: 5 | Y50: Attack | Z50: 1000 | AE50: 0.5

Sheet Classes
A1: ID | B1: Order | C1: Class | D1: Parent
C3: MILITAR
B4: =ROW() -> 4
B5: =ROW() -> 5
B6: =ROW() -> 6
B7: =ROW() -> 7
C8: ARQUITECT
B9: =ROW() -> 9
B10: =ROW() -> 10
B11: =ROW() -> 11
B12: =ROW() -> 12
B13: =ROW() -> 13
B14: =ROW() -> 14
B15: =ROW() -> 15
B16: =ROW() -> 16
B17: =ROW() -> 17
B18: =ROW() -> 18
B19: =ROW() -> 19
B20: =ROW() -> 20
C21: CIENTIFIC
B22: =ROW() -> 22
B23: =ROW() -> 23
C24: ENGINEER
B25: =ROW() -> 25
B26: =ROW() -> 26
B27: =ROW() -> 27
B28: =ROW() -> 28

Sheet LevelEvents
A1: ID | B1: Level Name | C1: Game Time | D1: Game Time Random Offset | E1: Repeat Time | F1: Max Repetitions | G1: Auto Notify Player | H1: Time To Notify In Advance | I1: Show Countdown | J1: Game Over | K1: Generators | L1: Attack Command Center | M1: Entity Type 1 | N1: Entity Type 2 | O1: Entity Type 3 | P1: Entity Type 4 | Q1: Entity Type 5
B3: Name of the level. | C3: Event time: Ex. 20m 30s | D3: Random threshold for the event time in minutes. Ex: 20s | E3: Time in minutes for repeating the event. Empty = no repetition (only once) | F3: Maximum number of repetitions of this event. Empty = Infinite | G3: If TRUE the player will be notified when the event happens. | H3: If set, the notification will be done before the minutes configured. | I3: If TRUE then it will displayed a count down until the event triggering. | J3: if TRUE then the game will end when this event is triggered. | K3: Generators IDs for the entities. Use | to indicate OR and & to indicate AND. Ex: NE | NO | L3: If TRUE the generated units will travel and attack the command center. | M3: Type of entity generated with the quantity. Ex: ZombieWeak(1000-2000) | N3: Type of entity generated with the quantity. Ex: ZombieWeak(1000-2000) | O3: Type of entity generated with the quantity. Ex: ZombieWeak(1000-2000) | P3: Type of entity generated with the quantity. Ex: ZombieWeak(1000-2000) | Q3: Type of entity generated with the quantity. Ex: ZombieWeak(1000-2000)
A5: 1 | B5: Test_B | C5: 5s | D5: 0 | E5: 20s | G5: Y | H5: 4s | I5: Y | K5: N | L5: Y | M5: ZombieWeak(2000)
